BEGIN:VCALENDAR
VERSION:2.0
PRODID:-//Altleiningen - ECPv6.15.20//NONSGML v1.0//EN
CALSCALE:GREGORIAN
METHOD:PUBLISH
X-ORIGINAL-URL:https://altleiningen.de
X-WR-CALDESC:Veranstaltungen für Altleiningen
REFRESH-INTERVAL;VALUE=DURATION:PT1H
X-Robots-Tag:noindex
X-PUBLISHED-TTL:PT1H
BEGIN:VTIMEZONE
TZID:Europe/Berlin
BEGIN:DAYLIGHT
TZOFFSETFROM:+0100
TZOFFSETTO:+0200
TZNAME:CEST
DTSTART:20240331T010000
END:DAYLIGHT
BEGIN:STANDARD
TZOFFSETFROM:+0200
TZOFFSETTO:+0100
TZNAME:CET
DTSTART:20241027T010000
END:STANDARD
BEGIN:DAYLIGHT
TZOFFSETFROM:+0100
TZOFFSETTO:+0200
TZNAME:CEST
DTSTART:20250330T010000
END:DAYLIGHT
BEGIN:STANDARD
TZOFFSETFROM:+0200
TZOFFSETTO:+0100
TZNAME:CET
DTSTART:20251026T010000
END:STANDARD
BEGIN:DAYLIGHT
TZOFFSETFROM:+0100
TZOFFSETTO:+0200
TZNAME:CEST
DTSTART:20260329T010000
END:DAYLIGHT
BEGIN:STANDARD
TZOFFSETFROM:+0200
TZOFFSETTO:+0100
TZNAME:CET
DTSTART:20261025T010000
END:STANDARD
BEGIN:DAYLIGHT
TZOFFSETFROM:+0100
TZOFFSETTO:+0200
TZNAME:CEST
DTSTART:20270328T010000
END:DAYLIGHT
BEGIN:STANDARD
TZOFFSETFROM:+0200
TZOFFSETTO:+0100
TZNAME:CET
DTSTART:20271031T010000
END:STANDARD
END:VTIMEZONE
BEGIN:VEVENT
DTSTART;TZID=Europe/Berlin:20260308T170000
DTEND;TZID=Europe/Berlin:20260308T180000
DTSTAMP:20260422T102541
CREATED:20260208T114859Z
LAST-MODIFIED:20260208T114859Z
UID:3379-1772989200-1772992800@altleiningen.de
SUMMARY:12. Theatercafé "Schlagercocktail"
DESCRIPTION: 
URL:https://altleiningen.de/veranstaltung/12-theatercafe-schlagercocktail-4/
END:VEVENT
BEGIN:VEVENT
DTSTART;TZID=Europe/Berlin:20260307T170000
DTEND;TZID=Europe/Berlin:20260307T180000
DTSTAMP:20260422T102541
CREATED:20260208T114821Z
LAST-MODIFIED:20260208T114821Z
UID:3377-1772902800-1772906400@altleiningen.de
SUMMARY:12. Theatercafé "Schlagercocktail"
DESCRIPTION: 
URL:https://altleiningen.de/veranstaltung/12-theatercafe-schlagercocktail-3/
END:VEVENT
BEGIN:VEVENT
DTSTART;TZID=Europe/Berlin:20260301T170000
DTEND;TZID=Europe/Berlin:20260301T180000
DTSTAMP:20260422T102541
CREATED:20260208T113828Z
LAST-MODIFIED:20260208T114247Z
UID:3369-1772384400-1772388000@altleiningen.de
SUMMARY:12. Theatercafé "Schlagercocktail"
DESCRIPTION: 
URL:https://altleiningen.de/veranstaltung/3369/
END:VEVENT
BEGIN:VEVENT
DTSTART;TZID=Europe/Berlin:20260228T170000
DTEND;TZID=Europe/Berlin:20260228T180000
DTSTAMP:20260422T102541
CREATED:20260208T113720Z
LAST-MODIFIED:20260208T114610Z
UID:3367-1772298000-1772301600@altleiningen.de
SUMMARY:12. Theatercafé "Schlagercocktail"
DESCRIPTION: 
URL:https://altleiningen.de/veranstaltung/12-theatercafe-schlagercocktail-2/
CATEGORIES:Theater
END:VEVENT
BEGIN:VEVENT
DTSTART;TZID=Europe/Berlin:20260221T170000
DTEND;TZID=Europe/Berlin:20260221T180000
DTSTAMP:20260422T102541
CREATED:20260208T112455Z
LAST-MODIFIED:20260208T114513Z
UID:3355-1771693200-1771696800@altleiningen.de
SUMMARY:12. Theatercafé "Schlagercocktail"
DESCRIPTION:Gute Unterhaltung beim 12. Theatercafé „Schlagercocktail“ \nIn einer turbulenten Szenenfolge werden die Zuschauerinnen und Zuschauer mit deutschen Schlagern aus den 1970ern unterhalten: \nEin ehrgeiziges Gesangspaar „Bonnie und Klaus“ möchte während der Probe zur TV-Sendung „Schlagercocktail“ die ultimative Schlagerformel des Experten Prof. G.T. Fechner an sich bringen. Aber wie so oft im Leben: es kommt anders\, als man denkt! \n \nBei Kaffee und Kuchen (und – wenn gewünscht – einem Cocktail) sind von „Cindy und Bert“ bis „Michael Holm“ und von „Adam und Eve“ bis „Wencke Myhre“ viele alte Bekannte zu hören. Spieltermine sind der 21. und 28. Februar\, 1.\, 7. und 8. März – der Einlass ist jeweils um 16:00 Uhr\, die Aufführung beginnt um 17:00 Uhr und dauert gut eine Stunde. \nDen Vorverkauf erreicht man montags und dienstags von 17:00 – 19:00 Uhr unter der Tel.Nr. 06356 8800 oder direkt auf der Burg. \nNatürlich können auch online über die Homepage www.burgspiele-altleiningen.de oder in der Buchhandlung Frank in Grünstadt Tickets erworben werden. \nSie kosten 15 € inkl. Kaffee und Kuchen!
URL:https://altleiningen.de/veranstaltung/12-theatercafe-schlagercocktail/
LOCATION:Altleiningen
CATEGORIES:Theater
ATTACH;FMTTYPE=image/png:https://altleiningen.de/wp-content/uploads/2026/02/Schlagercocktail_Hochformat_Schlussbild.png
END:VEVENT
BEGIN:VEVENT
DTSTART;TZID=Europe/Berlin:20260218T180000
DTEND;TZID=Europe/Berlin:20260218T180000
DTSTAMP:20260422T102541
CREATED:20260127T093355Z
LAST-MODIFIED:20260127T095004Z
UID:3340-1771437600-1771437600@altleiningen.de
SUMMARY:Heringsessen beim TuS
DESCRIPTION:Am Aschermittwoch steigt wieder beim TuS Altleiningen das traditionelle Heringsessen !!! \nWer keine Heringe mag\, für den gibt es Hausmacher und weisse Kees
URL:https://altleiningen.de/veranstaltung/heringsessen-beim-tus/
LOCATION:Sportpark Leiningerland – Vereinsgaststätte\, Altleiningen
ATTACH;FMTTYPE=image/jpeg:https://altleiningen.de/wp-content/uploads/2026/01/Heringseesen-tus.jpeg
END:VEVENT
BEGIN:VEVENT
DTSTART;TZID=Europe/Berlin:20251129T000000
DTEND;TZID=Europe/Berlin:20251221T000000
DTSTAMP:20260422T102541
CREATED:20251119T063332Z
LAST-MODIFIED:20251119T063703Z
UID:3326-1764374400-1766275200@altleiningen.de
SUMMARY:Kommende Veranstaltungen in Altleiningen
DESCRIPTION:  
URL:https://altleiningen.de/veranstaltung/kommende-veranstaltungen-in-altleiningen/
LOCATION:Altleiningen
END:VEVENT
BEGIN:VEVENT
DTSTART;TZID=Europe/Berlin:20250718T170000
DTEND;TZID=Europe/Berlin:20250722T233000
DTSTAMP:20260422T102541
CREATED:20250616T220501Z
LAST-MODIFIED:20250619T071924Z
UID:3219-1752858000-1753227000@altleiningen.de
SUMMARY:Altleininger Kerwefestival
DESCRIPTION:Im Juli steigt wieder unser spekakuläres Kerwefestival mit einigen Überraschungen. \n \n\n\n\n  \n  \n  \n\n  \n\nFr. 18.07. \n17.00 \nGottesdienst zur Eröffnung mit Pfälzer Schorle und dem BBO-Hettenleidelheim \n\n\n\n20.00\nRICKY AND FRIENDS\n\n\n\n\n\nSa. 19.07. \n\n\n\n17.00\nBeginn Ausschank\n\n\n20.30\nMUSIC POOL\n\n\n\n\n\nSo. 20.07. \n\n\n\n12.00\nBeginn Ausschank\n\n\n\n\n\n\n\n14.00\nVerkauf von Kaffee und Kuchen zur Finanzierung der Kerwe\n\n\n\n14.00\nKerweumzug mit Guggemusik (Pälzer Scholleklobber) und anschließender Kerweredd\n\n\n17.00\nANDY WILSING\n\n\n\n\n\n\nMo. 21.07. \n\n\n\n17.00\nBeginn Ausschank\n\n\n18.00\nKerwespiele (Arena am Glockenturm)\n\n\n19.30\nMR. JONES\n\n\n\n\n\nDi. 22.07. \n\n\n\n17.00\nBeginn Ausschank\n\n\n19.00\nDJ Musik\n\n\n\nAusklang
URL:https://altleiningen.de/veranstaltung/altleininger-kerwefestival/
LOCATION:Bahnhofsplatz\, Altleiningen\, 67317\, Germany
END:VEVENT
BEGIN:VEVENT
DTSTART;TZID=Europe/Berlin:20250628T100000
DTEND;TZID=Europe/Berlin:20250628T140000
DTSTAMP:20260422T102541
CREATED:20250627T050548Z
LAST-MODIFIED:20250627T050548Z
UID:3246-1751104800-1751119200@altleiningen.de
SUMMARY:Sommerfest in der Kita Schatzinsel
DESCRIPTION:es ist wieder soweit…. \nKommt alle zum Sommerfest in die Kita Schatzinsel \n 
URL:https://altleiningen.de/veranstaltung/sommerfest-in-der-kita-schatzinsel/
END:VEVENT
BEGIN:VEVENT
DTSTART;TZID=Europe/Berlin:20250529T100000
DTEND;TZID=Europe/Berlin:20250529T190000
DTSTAMP:20260422T102541
CREATED:20250422T144803Z
LAST-MODIFIED:20250422T144803Z
UID:3210-1748512800-1748545200@altleiningen.de
SUMMARY:Vatertag am Schwimmbadkiosk
DESCRIPTION:Dieses Jahr veranstaltet Fam. Köcherer (Pächter des Burgbadkiosk) ein Fest am Vatertag. \nFür Essen (es wird gegrillt)\, Getränke und Musik ist gesorgt…
URL:https://altleiningen.de/veranstaltung/vatertag-am-schwimmbadkiosk/
LOCATION:Burgbadkiosk\, Burg 1\, Altleinigen\, 67317\, Germany
END:VEVENT
BEGIN:VEVENT
DTSTART;TZID=Europe/Berlin:20250501T110000
DTEND;TZID=Europe/Berlin:20250501T180000
DTSTAMP:20260422T102541
CREATED:20250414T214222Z
LAST-MODIFIED:20250414T214400Z
UID:3089-1746097200-1746122400@altleiningen.de
SUMMARY:Maibaumfest
DESCRIPTION:Kommt vorbei und freut Euch auf das erste FWG Altleiningen-Höningen Maibaumfest am 01.05.2025 auf dem Bahnhofsplatz in Altleiningen von 11-18 Uhr.\nIn guter Tradition möchten wir das Maibaumfest wieder aufleben lassen.\nBei Bratwurst\, Saumagen im Brötchen und Spundekäs mit Brezel sowie Getränken aller Art zu familienfreundlichen Preisen wollen wir in gemütlicher Atmosphäre mit Euch und Ihnen zusammen in den Wonnemonat Mai starten.\n\n\nWir freuen uns auf Euch.
URL:https://altleiningen.de/veranstaltung/maibaumfest/
LOCATION:Bahnhofsplatz\, Altleiningen\, 67317\, Germany
END:VEVENT
BEGIN:VEVENT
DTSTART;TZID=Europe/Berlin:20250316T140000
DTEND;TZID=Europe/Berlin:20250316T170000
DTSTAMP:20260422T102541
CREATED:20250316T080948Z
LAST-MODIFIED:20250316T080948Z
UID:3022-1742133600-1742144400@altleiningen.de
SUMMARY:Erste Altleininger Winterverbrennung am Sonntag\, 16. März\, 14 Uhr\, auf dem Bahnhofsplatz
DESCRIPTION:Erstmals wird es in Altleiningen eine Winterverbrennung geben. Wer die Initiative für das kleine Volksfest ergriffen hat und wie viele Besucher erwartet werden. \n\n\nJörg Bohn kann sich noch gut an das frühere Stabausfest in seinem Heimatdorf Altleiningen erinnern. „Damals sind wir mit Brezeln auf bunten Stecken\, die wir im Kindergarten oder in der Grundschule gebastelt hatten\, durch die Straßen gezogen und haben an den Haustüren geklingelt“\, sagt der Vorsitzende des örtlichen CDU-Verbandes. Die Jungen und Mädchen hätten ein Lied vorgetragen und seien dafür mit Naschereien belohnt worden. Die zufriedenen Kinder sangen dann „Glück ins Haus!“ – wehe aber\, wenn es keine Süßigkeiten gegeben habe\, meint Bohn schmunzelnd. In dem Fall hätten die Kleinen „Dreck ins Haus!“ gewünscht. \nEine Winterverbrennung habe nicht stattgefunden. Am kommenden Sonntag wird jedoch auf dem Bahnhofsplatz ein selbst gebauter Schneemann in Flammen aufgehen. Die Altleininger CDU will die vielerorts gepflegte Tradition auch in ihrem Burgdorf einführen. Die Idee hatte Sven Keßler\, Mitgliederbeauftragter des Ortsverbands. „Ursprünglich wollten wir Herrn Winter aus Strohballen machen\, aber die Feuerwehr hat mit Blick auf die Anwohner wegen der Rauchentwicklung abgeraten“\, erzählt der 49-Jährige. Stattdessen konstruieren die Christdemokraten nun ein etwa 2\,50 Meter hohes Holzgerüst als Skelett für einen Schneemann\, der in der Kita „Schatzinsel“ aus weißen Leinentüchern und Krepppapier gestaltet wird. \n130 bis 150 Besucher erwartet\n„Dort werden auch ein Zylinder und die Stabausstecken gebastelt“\, erklärt Keßler. „Wir spendieren rund 70 Brezeln dazu\, die nur für die Kinder gedacht sind“\, sagt Bohn. „Insgesamt rechnen wir mit etwa 130 bis 150 Besuchern“\, wagt der Vorsitzende eine Prognose. Die protestantische Kirche habe ebenfalls mitmachen wollen\, aber leider absagen müssen wegen Terminüberschneidungen mit dem Konfi-Cup. Die CDU wird auch heiße Würstchen und Getränke anbieten\, die Kita selbstgebackenen Kuchen und Kaffee – alles zugunsten des Fördervereins des Kindergartens. Die Einrichtung studiert ein paar Lieder ein\, die vor dem Anzünden des Schneemannes vorgetragen werden. \n\nEin Umzug wurde bei der Veranstaltung\, für die im November die Genehmigung beim Ordnungsamt beantragt wurde\, nicht organisiert. Es sei zunächst abzuwarten\, wie die Aktion angenommen wird\, sind sich die beiden Ratsmitglieder einig. Je nach Resonanz könne man das Stabausfest künftig noch ausbauen. Der CDU gehe es darum\, ein bisschen Schwung ins Dorfleben zu bringen. „Aus dem Grund haben wir im vergangenen Jahr auch einen Flohmarkt im Hof der Metzgerei Hepp ins Leben gerufen“\, sagt Keßler. Er sei aus dem Stand mit 28 Ausstellern ein voller Erfolg gewesen und soll am 25. Mai wiederholt werden. Außerdem sei ein Kinderbasar im Höninger Bürgerhaus am 21. September angedacht. \n  \nQuelle: Rheinpfalz
URL:https://altleiningen.de/veranstaltung/erste-altleininger-winterverbrennung-am-sonntag-16-maerz-14-uhr-auf-dem-bahnhofsplatz/
LOCATION:Bahnhofsplatz\, Altleiningen\, 67317\, Germany
END:VEVENT
END:VCALENDAR